BEGIN:VCALENDAR
VERSION:2.0
PRODID:-//Loja VP - ECPv6.15.13.1//NONSGML v1.0//EN
CALSCALE:GREGORIAN
METHOD:PUBLISH
X-WR-CALNAME:Loja VP
X-ORIGINAL-URL:https://loja.faculdadevp.com.br
X-WR-CALDESC:Eventos para Loja VP
REFRESH-INTERVAL;VALUE=DURATION:PT1H
X-Robots-Tag:noindex
X-PUBLISHED-TTL:PT1H
BEGIN:VTIMEZONE
TZID:America/Sao_Paulo
BEGIN:STANDARD
TZOFFSETFROM:-0300
TZOFFSETTO:-0300
TZNAME:-03
DTSTART:20250101T000000
END:STANDARD
END:VTIMEZONE
BEGIN:VEVENT
DTSTART;TZID=America/Sao_Paulo:20260522T080000
DTEND;TZID=America/Sao_Paulo:20260523T180000
DTSTAMP:20260422T192800
CREATED:20250531T121842Z
LAST-MODIFIED:20251215T125532Z
UID:10000041-1779436800-1779559200@loja.faculdadevp.com.br
SUMMARY:VI Congresso Sul Brasileiro de Nutrição Funcional
DESCRIPTION:Pré-inscrição liberada!
URL:https://loja.faculdadevp.com.br/evento/vi-congresso-sul-brasileiro-de-nutricao-funcional/
LOCATION:Centro de convenções em Florianópolis\, Av. Gov. Gustavo Richard\, 850 - Centro\, Florianópolis\, SC\, 88010-290
ATTACH;FMTTYPE=image/jpeg:https://loja.faculdadevp.com.br/wp-content/uploads/2024/09/Imagem-do-WhatsApp-de-2024-09-12-as-15.43.05_062c18e1.jpg
ORGANIZER;CN="VP":MAILTO:contato@faculdadevp.com.br
END:VEVENT
BEGIN:VEVENT
DTSTART;TZID=America/Sao_Paulo:20260917T080000
DTEND;TZID=America/Sao_Paulo:20260919T180000
DTSTAMP:20260422T192800
CREATED:20251105T212832Z
LAST-MODIFIED:20260318T150841Z
UID:10000052-1789632000-1789840800@loja.faculdadevp.com.br
SUMMARY:Congresso VP 2026
DESCRIPTION:
URL:https://loja.faculdadevp.com.br/evento/congresso-vp-2026/
LOCATION:Shopping Frei Caneca\, R. Frei Caneca\, 569 - 3º e 5º andar - Bela Vista\, São Paulo\, São Paulo\, 01307001\, Brasil
ATTACH;FMTTYPE=image/jpeg:https://loja.faculdadevp.com.br/wp-content/uploads/2025/11/DSC2342-scaled.jpg
ORGANIZER;CN="VP":MAILTO:contato@faculdadevp.com.br
END:VEVENT
END:VCALENDAR