BEGIN:VCALENDAR
VERSION:2.0
PRODID:-//Loja VP - ECPv6.15.13.1//NONSGML v1.0//EN
CALSCALE:GREGORIAN
METHOD:PUBLISH
X-ORIGINAL-URL:https://loja.faculdadevp.com.br
X-WR-CALDESC:Eventos para Loja VP
REFRESH-INTERVAL;VALUE=DURATION:PT1H
X-Robots-Tag:noindex
X-PUBLISHED-TTL:PT1H
BEGIN:VTIMEZONE
TZID:America/Sao_Paulo
BEGIN:STANDARD
TZOFFSETFROM:-0300
TZOFFSETTO:-0300
TZNAME:-03
DTSTART:20230101T000000
END:STANDARD
END:VTIMEZONE
BEGIN:VEVENT
DTSTART;TZID=America/Sao_Paulo:20260410T090000
DTEND;TZID=America/Sao_Paulo:20260410T170000
DTSTAMP:20260424T174710
CREATED:20260303T223855Z
LAST-MODIFIED:20260303T223855Z
UID:10000057-1775811600-1775840400@loja.faculdadevp.com.br
SUMMARY:Teatro VP - Goiânia - 10.04
DESCRIPTION:  \n  \n 
URL:https://loja.faculdadevp.com.br/evento/teatro-vp-goiania-10-04/
LOCATION:Assembleia Legislativa do Estado de Goiás\, Av. Emival Bueno\, Quadra G - Lote 01 -\, Goiânia\, Goias\, 74884-090\, Brazil
ATTACH;FMTTYPE=image/jpeg:https://loja.faculdadevp.com.br/wp-content/uploads/2023/10/cinema-vp-meninas.jpg
ORGANIZER;CN="VP":MAILTO:contato@faculdadevp.com.br
END:VEVENT
BEGIN:VEVENT
DTSTART;TZID=America/Sao_Paulo:20260331T190000
DTEND;TZID=America/Sao_Paulo:20260402T210000
DTSTAMP:20260424T174710
CREATED:20260227T135940Z
LAST-MODIFIED:20260401T131310Z
UID:10000056-1774983600-1775163600@loja.faculdadevp.com.br
SUMMARY:O Maior Evento Online de Neurodiversidade - 50%OFF
DESCRIPTION:31.03 \n\n\n\n\n\n\n19h00 \n\n\n\n\nAbertura Oficial e Contextualização Científica \n\n\nMaiara Lima & Ticiane Aragão \n\n\n\n\n\n\n19h10 \n\n\n\n\nDo Diagnóstico à Inclusão: Como acolher pacientes e famílias com responsabilidade e empatia \n\n\nKathleen Lima \n\n\n\n\n\n\n19h30 \n\n\n\n\nDiagnóstico na Vida Adulta: desafios enfrentados pelo paciente e como traçar uma rota de ajuda! \n\n\nMatheus Trilico \n\n\n\n\n\n\n19h50 \n\n\n\n\nDesordens Sensoriais: o que todo profissional e paciente deveria compreender \n\n\nThais Carolina \n\n\n\n\n\n\n20h10 \n\n\n\n\nNutrição na Neurodiversidade: o que realmente faz diferença na prática clínica \n\n\nDenise Carreiro \n\n\n\n\n\n\n20h40 \n\n\n\n\nDebate Integrado + Perguntas ao Vivo \n\n\n\n\n\n\n01.04 \n\n\n\n\n\n\n19h00 \n\n\n\n\nAbertura e Conexão com o Dia 1 \n\n\nMaiara Lima & Ticiane Aragão \n\n\n\n\n\n\n19h10 \n\n\n\n\nO que os exames laboratoriais revelam sobre pacientes neurodivergentes? \n\n\nMaiara Lima & Ticiane Aragão \n\n\n\n\n\n\n19h30 \n\n\n\n\nDisfunções Orofaciais e Seletividade Alimentar: o que observar além do prato \n\n\nVanessa Fontes \n\n\n\n\n\n\n19h50 \n\n\n\n\nVencendo a Seletividade: estratégias nutricionais da infância à vida adulta \n\n\nElisa Espindola \n\n\n\n\n\n\n20h10 \n\n\n\n\nEducação Encorajadora: o que profissionais e cuidadores precisam alinhar! \n\n\nAline Cestaroli \n\n\n\n\n\n\n20h30 \n\n\n\n\nAbordagem Nutricional na Dificuldade Alimentar: 5 Pilares importantes! \n\n\nJanine Aragão \n\n\n\n\n\n\n20h50 \n\n\n\n\nDiscussão Clínica + Perguntas \n\n\n\n\n\n\n02.04 \n\n\n\n\n\n\n19h00 \n\n\n\n\nAbertura do Dia 3 \n\n\nMaiara Lima & Ticiane Aragão \n\n\n\n\n\n\n19h10 \n\n\n\n\nNutrição e Terapia Ocupacional: por que essa dupla transforma casos de seletividade alimentar? (Caso real) \n\n\nAmanda Silverio Parro & Elisa Espindola \n\n\n\n\n\n\n19h25 \n\n\n\n\n10 Lições que o Nutricionista pode aprender com o Terapeuta Ocupacional \n\n\nJuliana Mussolini \n\n\n\n\n\n\n19h40 \n\n\n\n\nAromaterapia em TEA e TDAH: evidências\, segurança e limites clínicos \n\n\nMichelle Barrella \n\n\n\n\n\n\n20h00 \n\n\n\n\nFármacos na Neurodiversidade: o que pacientes\, pais e profissionais precisam monitorar e conhecer! \n\n\nAlexandre Justos \n\n\n\n\n\n\n20h20 \n\n\n\n\nAlergia e sensibilidade alimentar na Neurodiversidade: Atualizações e Perspectivas Atuais \n\n\nDanielly Serrano
URL:https://loja.faculdadevp.com.br/evento/evento-online-neurodiversidade/
ATTACH;FMTTYPE=image/jpeg:https://loja.faculdadevp.com.br/wp-content/uploads/2026/02/card-1-2.jpg
ORGANIZER;CN="VP":MAILTO:contato@faculdadevp.com.br
LOCATION:
END:VEVENT
BEGIN:VEVENT
DTSTART;TZID=America/Sao_Paulo:20260316T090000
DTEND;TZID=America/Sao_Paulo:20260316T170000
DTSTAMP:20260424T174710
CREATED:20260213T201709Z
LAST-MODIFIED:20260226T134211Z
UID:10000055-1773651600-1773680400@loja.faculdadevp.com.br
SUMMARY:Cinema VP - Campinas - 16.03
DESCRIPTION:Confira a programação: \n🧠 Integração neurobiológica do comportamento alimentar: alvos terapêuticos para a prática do nutricionista – Gabriela Pimentel \n🌿 A potência de ervas e especiarias na prática do nutricionista – Clara Miranda \n🧬 Compostos Bioativos na prática clínica com pacientes oncológicos – Valéria Paschoal \n💇‍♂️ Da Deficiência ao Fio: O Papel da Nutrição no Eflúvio e na Saúde Capilar – André Freitas \n💪 Atualizações em Suplementação e Alimentação para Recuperação Muscular – Márcio Souza \n🥗 Melhores alimentos para pacientes em uso GLP-1 – Elisa Jackix \n🧬 O Código do Sabor: Genética\, Nutrição e Fitoterapia Aplicada à Memória do Sabor – Natália Marques \n🔥 MOSH\, Inflamação e Resistência à Insulina: Existe Papel para a Nutrição Funcional? – Rodrigo Loschi
URL:https://loja.faculdadevp.com.br/evento/cinema-vp-campinas-16-03/
LOCATION:Campinas Shopping\, Rua Jacy Teixeira de Camargo\, 940 - Jardim do Lago\, Campinas\, SP\, 13050-913\, Brazil
ATTACH;FMTTYPE=image/jpeg:https://loja.faculdadevp.com.br/wp-content/uploads/2023/10/cinema-vp-meninas.jpg
ORGANIZER;CN="VP":MAILTO:contato@faculdadevp.com.br
END:VEVENT
BEGIN:VEVENT
DTSTART;TZID=America/Sao_Paulo:20260313T080000
DTEND;TZID=America/Sao_Paulo:20260313T170000
DTSTAMP:20260424T174710
CREATED:20260213T201112Z
LAST-MODIFIED:20260226T134400Z
UID:10000054-1773388800-1773421200@loja.faculdadevp.com.br
SUMMARY:Teatro VP - Curitiba - 13.03
DESCRIPTION:Confira a programação: \n🌸 Desvendando os mistérios nutricionais da endometriose – Maria Angélica🌷 O impacto da Nutrição Funcional na Longevidade Hormonal da mulher 40+ – Lucyanna Kalluf✨ Microbiota de pele e a nutrição em casos de acne e dermatite – Eliane Tagliari🧬 Endurance de Precisão: Como Usar a Nutrigenética na Estratégia Nutricional de Atletas – Priscila Dabaghi🧠 Você tem fome do que? Como a Memória do Sabor está associada à obesidade – Natália Marques \n  \n 
URL:https://loja.faculdadevp.com.br/evento/teatro-vp-pr-13-03/
LOCATION:Universidade Positivo – Câmpus Sede (Ecoville)\, Rua Prof. Pedro Viriato Parigot de Souza\, 5300 - Cidade Industrial/Campo Comprido\, Curitiba\, Paraná\, 81280-330\, Brazil
ATTACH;FMTTYPE=image/jpeg:https://loja.faculdadevp.com.br/wp-content/uploads/2023/10/cinema-vp-meninas.jpg
ORGANIZER;CN="VP":MAILTO:contato@faculdadevp.com.br
END:VEVENT
BEGIN:VEVENT
DTSTART;TZID=America/Sao_Paulo:20260225T080000
DTEND;TZID=America/Sao_Paulo:20260225T170000
DTSTAMP:20260424T174710
CREATED:20260127T140541Z
LAST-MODIFIED:20260127T140541Z
UID:10000053-1772006400-1772038800@loja.faculdadevp.com.br
SUMMARY:Cinema VP - RJ - 25.02
DESCRIPTION:  \n  \n 
URL:https://loja.faculdadevp.com.br/evento/cinema-vp-rj-25-02/
LOCATION:UCI New York City Center\, Av. das Américas\, 5000\, Rio de Janeiro\, RJ\, 22640-102\, Brasil
ATTACH;FMTTYPE=image/jpeg:https://loja.faculdadevp.com.br/wp-content/uploads/2023/10/cinema-vp-meninas.jpg
ORGANIZER;CN="VP":MAILTO:contato@faculdadevp.com.br
END:VEVENT
BEGIN:VEVENT
DTSTART;TZID=America/Sao_Paulo:20251129T080000
DTEND;TZID=America/Sao_Paulo:20251129T120000
DTSTAMP:20260424T174710
CREATED:20251027T193156Z
LAST-MODIFIED:20251126T190927Z
UID:10000051-1764403200-1764417600@loja.faculdadevp.com.br
SUMMARY:Imersão em Antropometria
DESCRIPTION:Foram muitos pedidos e\, finalmente\, temos a data! \nFruto de uma parceria entre a Nutrindo Juntos e a faculdade VP\, no dia 29 de novembro\, das 8h às 12h\, o Centro Empresarial Barra Shopping (RJ) será palco da primeira experiência prática\, e exclusiva\, de imersão em antropometria clínica! \nAs vagas são limitadas para garantir acompanhamento próximo e aprendizagem personalizada\, com vários profissionais presentes\, acompanhando os participantes durante toda a aula. \nO evento contará com a antropometria padrão de referência\, aliada a outros parâmetros modernos de avaliação corporal\, permitindo comparações mais precisas\, seguras e fundamentadas nas evidências científicas. \nA proposta integra tecnologia\, técnica e interpretação aplicada à realidade clínica. \nEleve a qualidade dos seus atendimentos e adquira mais segurança nas decisões nutricionais. \nGaranta sua vaga no valor promocional antecipado (Black Friday)!
URL:https://loja.faculdadevp.com.br/evento/imersao-antropometria/
LOCATION:Centro Empresarial Barra Shopping\, Av. das Américas\, 4200 - bloco 9A\, Rio de Janeiro\, RJ\, Brazil
ATTACH;FMTTYPE=image/png:https://loja.faculdadevp.com.br/wp-content/uploads/2025/10/Screenshot-2025-10-27-163102.png
ORGANIZER;CN="VP":MAILTO:contato@faculdadevp.com.br
END:VEVENT
BEGIN:VEVENT
DTSTART;TZID=America/Sao_Paulo:20251119T100000
DTEND;TZID=America/Sao_Paulo:20251119T170000
DTSTAMP:20260424T174710
CREATED:20251016T183438Z
LAST-MODIFIED:20251016T233237Z
UID:10000050-1763546400-1763571600@loja.faculdadevp.com.br
SUMMARY:Cinema VP - RJ - 19.11
DESCRIPTION:  \n  \n 
URL:https://loja.faculdadevp.com.br/evento/cinema-vp-rj-19-11/
LOCATION:UCI New York City Center\, Av. das Américas\, 5000\, Rio de Janeiro\, RJ\, 22640-102\, Brasil
ATTACH;FMTTYPE=image/jpeg:https://loja.faculdadevp.com.br/wp-content/uploads/2023/10/cinema-vp-meninas.jpg
ORGANIZER;CN="VP":MAILTO:contato@faculdadevp.com.br
END:VEVENT
BEGIN:VEVENT
DTSTART;TZID=America/Sao_Paulo:20251117T100000
DTEND;TZID=America/Sao_Paulo:20251117T170000
DTSTAMP:20260424T174710
CREATED:20251016T180619Z
LAST-MODIFIED:20251016T180619Z
UID:10000049-1763373600-1763398800@loja.faculdadevp.com.br
SUMMARY:Cinema VP - SP - 17.11
DESCRIPTION:  \n  \n 
URL:https://loja.faculdadevp.com.br/evento/cinema-vp-sao-paulo-17-11/
LOCATION:Shopping Anália Franco\, Avenida Regente Feijó\, 1739 - Jardim Anália Franco\, São Paulo\, SP\, 03342-900
ATTACH;FMTTYPE=image/jpeg:https://loja.faculdadevp.com.br/wp-content/uploads/2023/10/cinema-vp-meninas.jpg
ORGANIZER;CN="VP":MAILTO:contato@faculdadevp.com.br
END:VEVENT
BEGIN:VEVENT
DTSTART;TZID=America/Sao_Paulo:20251112T100000
DTEND;TZID=America/Sao_Paulo:20251112T170000
DTSTAMP:20260424T174710
CREATED:20251016T180405Z
LAST-MODIFIED:20251016T180846Z
UID:10000048-1762941600-1762966800@loja.faculdadevp.com.br
SUMMARY:Cinema VP - Fortaleza - 12.11
DESCRIPTION:  \n  \n 
URL:https://loja.faculdadevp.com.br/evento/cinema-vp-fortaleza-12-11/
LOCATION:Av. Washington Soares\, 85\, Av. Washington Soares\, 85\, Fortaleza\, Ceará\, 60811-341\, Brasil
ATTACH;FMTTYPE=image/jpeg:https://loja.faculdadevp.com.br/wp-content/uploads/2023/10/cinema-vp-meninas.jpg
ORGANIZER;CN="VP":MAILTO:contato@faculdadevp.com.br
END:VEVENT
BEGIN:VEVENT
DTSTART;TZID=America/Sao_Paulo:20251110T100000
DTEND;TZID=America/Sao_Paulo:20251110T170000
DTSTAMP:20260424T174710
CREATED:20251016T175431Z
LAST-MODIFIED:20251016T175431Z
UID:10000047-1762768800-1762794000@loja.faculdadevp.com.br
SUMMARY:Cinema VP - Salvador - 10.11
DESCRIPTION:  \n  \n 
URL:https://loja.faculdadevp.com.br/evento/cinema-vp-ba-10-11/
LOCATION:Cinema do Shopping da Bahia\, Av. Tancredo Neves\, 148\, Salvador\, Bahia\, Brasil
ATTACH;FMTTYPE=image/jpeg:https://loja.faculdadevp.com.br/wp-content/uploads/2023/10/cinema-vp-meninas.jpg
ORGANIZER;CN="VP":MAILTO:contato@faculdadevp.com.br
END:VEVENT
BEGIN:VEVENT
DTSTART;TZID=America/Sao_Paulo:20250918T080000
DTEND;TZID=America/Sao_Paulo:20250920T180000
DTSTAMP:20260424T174710
CREATED:20240917T132627Z
LAST-MODIFIED:20250828T154835Z
UID:10000026-1758182400-1758391200@loja.faculdadevp.com.br
SUMMARY:Congresso VP 2025
DESCRIPTION:
URL:https://loja.faculdadevp.com.br/evento/congresso-vp-2025/
LOCATION:Shopping Frei Caneca\, R. Frei Caneca\, 569 - 3º e 5º andar - Bela Vista\, São Paulo\, São Paulo\, 01307001\, Brasil
ATTACH;FMTTYPE=image/jpeg:https://loja.faculdadevp.com.br/wp-content/uploads/2023/09/congressovp.jpeg
ORGANIZER;CN="VP":MAILTO:contato@faculdadevp.com.br
END:VEVENT
BEGIN:VEVENT
DTSTART;TZID=America/Sao_Paulo:20250821T150000
DTEND;TZID=America/Sao_Paulo:20250822T210000
DTSTAMP:20260424T174710
CREATED:20250703T192506Z
LAST-MODIFIED:20250818T201606Z
UID:10000043-1755788400-1755896400@loja.faculdadevp.com.br
SUMMARY:II Congresso de Nutrição Funcional e Esportiva: Avanços e Desafios na Saúde.
DESCRIPTION:
URL:https://loja.faculdadevp.com.br/evento/encontro-faminas-vp-2/
LOCATION:Faminas BH\, Av. Cristiano Machado\, 12001 - Vila Cloris\, Belo Horizonte\, Minas Gerais\, 31744-007\, Brasil
ATTACH;FMTTYPE=image/jpeg:https://loja.faculdadevp.com.br/wp-content/uploads/2025/07/Faminas-1.jpg
ORGANIZER;CN="VP":MAILTO:contato@faculdadevp.com.br
END:VEVENT
BEGIN:VEVENT
DTSTART;TZID=America/Sao_Paulo:20250806T100000
DTEND;TZID=America/Sao_Paulo:20250806T170000
DTSTAMP:20260424T174710
CREATED:20250716T180757Z
LAST-MODIFIED:20250717T154714Z
UID:10000045-1754474400-1754499600@loja.faculdadevp.com.br
SUMMARY:Cinema VP - SP 06.08
DESCRIPTION:  \n  \n 
URL:https://loja.faculdadevp.com.br/evento/cinema-vp-sp-06-08/
LOCATION:Shopping Anália Franco\, Avenida Regente Feijó\, 1739 - Jardim Anália Franco\, São Paulo\, SP\, 03342-900
ATTACH;FMTTYPE=image/jpeg:https://loja.faculdadevp.com.br/wp-content/uploads/2023/10/cinema-vp-meninas.jpg
ORGANIZER;CN="VP":MAILTO:contato@faculdadevp.com.br
END:VEVENT
BEGIN:VEVENT
DTSTART;TZID=America/Sao_Paulo:20250730T090000
DTEND;TZID=America/Sao_Paulo:20250730T170000
DTSTAMP:20260424T174710
CREATED:20250703T195719Z
LAST-MODIFIED:20250730T130348Z
UID:10000044-1753866000-1753894800@loja.faculdadevp.com.br
SUMMARY:Cinema VP - Rio de Janeiro 30.07
DESCRIPTION:
URL:https://loja.faculdadevp.com.br/evento/cinema-vp-rio-de-janeiro-30-07-2025/
LOCATION:UCI New York City Center\, Av. das Américas\, 5000\, Rio de Janeiro\, RJ\, 22640-102\, Brasil
ATTACH;FMTTYPE=image/jpeg:https://loja.faculdadevp.com.br/wp-content/uploads/2023/10/cinema-vp-meninas.jpg
ORGANIZER;CN="VP":MAILTO:contato@faculdadevp.com.br
END:VEVENT
BEGIN:VEVENT
DTSTART;TZID=America/Sao_Paulo:20250408T100000
DTEND;TZID=America/Sao_Paulo:20250408T170000
DTSTAMP:20260424T174710
CREATED:20250317T155505Z
LAST-MODIFIED:20250317T231716Z
UID:10000036-1744106400-1744131600@loja.faculdadevp.com.br
SUMMARY:Cinema VP - SP 08.04
DESCRIPTION:  \n  \n 
URL:https://loja.faculdadevp.com.br/evento/cinema-vp-sp-08-04-2025/
LOCATION:Shopping Anália Franco\, Avenida Regente Feijó\, 1739 - Jardim Anália Franco\, São Paulo\, SP\, 03342-900
ATTACH;FMTTYPE=image/jpeg:https://loja.faculdadevp.com.br/wp-content/uploads/2023/10/cinema-vp-meninas.jpg
ORGANIZER;CN="VP":MAILTO:contato@faculdadevp.com.br
END:VEVENT
BEGIN:VEVENT
DTSTART;TZID=America/Sao_Paulo:20250403T100000
DTEND;TZID=America/Sao_Paulo:20250403T170000
DTSTAMP:20260424T174710
CREATED:20250318T160540Z
LAST-MODIFIED:20250321T204256Z
UID:10000038-1743674400-1743699600@loja.faculdadevp.com.br
SUMMARY:Nutrição Funcional: A peça que faltava – Goiânia
DESCRIPTION:No dia 03 de abril\, das 10h às 17h\, o Teatro VP chega a Goiânia para um encontro presencial inesquecível\, que vai transformar sua forma de enxergar a Nutrição Funcional. \n📍 Auditório Jaime Câmara – Câmara Municipal de Goiânia\nAv. Goiás\, 2001 – Setor Central\, Goiânia – GO \nUma programação de impacto\, com palestras que unem ciência\, prática clínica e emoção: \n🧬 Sono & adesão à dieta: bioquímica\, genética e prática clínica –\nAndré Heibel \n🌱 A origem do legado: 25 anos transformando vidas\nValéria Paschoal \n⚡ Os mistérios da Histamina: o que o nutricionista precisa saber –\nNatália Marques \n💪 Nutrição e Suplementação para Recuperação Muscular\n– Márcio Souza \n✨ Gastroenterologia – Murilo Pereira \n 
URL:https://loja.faculdadevp.com.br/evento/nutricao-funcional-a-peca-que-faltava-goiania/
LOCATION:Auditório Jaime – Câmara Municipal de Goiânia\, Av. Goiás\, 2001\, Setor Central\,\, Goiânia\, Goiás\,\, 74063-90
ATTACH;FMTTYPE=image/jpeg:https://loja.faculdadevp.com.br/wp-content/uploads/2025/03/image.jpg
ORGANIZER;CN="VP":MAILTO:contato@faculdadevp.com.br
END:VEVENT
BEGIN:VEVENT
DTSTART;TZID=America/Sao_Paulo:20250401T093000
DTEND;TZID=America/Sao_Paulo:20250401T170000
DTSTAMP:20260424T174710
CREATED:20250317T203635Z
LAST-MODIFIED:20250318T204923Z
UID:10000037-1743499800-1743526800@loja.faculdadevp.com.br
SUMMARY:Nutrição Funcional: A peça que faltava - DF
DESCRIPTION:O Curso de Nutrição da Universidade Católica de Brasília tem um presente especial para todos! \nNo dia 01/04\, você tem um encontro marcado com grandes especialistas da nutrição funcional em um evento gratuito e transformador. \n🔹 Palestras imperdíveis:\n💠 A origem do legado: 25 anos transformando vidas – Valéria Paschoal\n💠 Acne na Pele: Problemas no Prato? – André Freitas\n💠 Os mistérios da Histamina: o que o nutricionista precisa saber – Natália Marques\n💠 Sono & adesão à dieta: bioquímica\, genética e prática clínica – André Heibel \n📢 Vagas limitadas!
URL:https://loja.faculdadevp.com.br/evento/nutricao-funcional-a-peca-que-faltava-br-01-04/
LOCATION:Teatro Católica – Bloco Central – Universidade Católica de Brasília\, QS 7 Lote 01 - Taguatinga\, Brasília\, DF\, 71966-700\, Brazil
ATTACH;FMTTYPE=image/jpeg:https://loja.faculdadevp.com.br/wp-content/uploads/2025/03/MG_7125.jpg
ORGANIZER;CN="VP":MAILTO:contato@faculdadevp.com.br
END:VEVENT
BEGIN:VEVENT
DTSTART;TZID=America/Sao_Paulo:20250312T100000
DTEND;TZID=America/Sao_Paulo:20250312T170000
DTSTAMP:20260424T174710
CREATED:20250106T133943Z
LAST-MODIFIED:20250312T032743Z
UID:10000034-1741773600-1741798800@loja.faculdadevp.com.br
SUMMARY:Cinema VP - Recife 12.03
DESCRIPTION:
URL:https://loja.faculdadevp.com.br/evento/cinema-vp-recife-18-02/
LOCATION:Shopping Recife\, R. Padre Carapuceiro\, 777\, Recife\, PE\, 51020-900\, Brasil
ATTACH;FMTTYPE=image/jpeg:https://loja.faculdadevp.com.br/wp-content/uploads/2023/10/cinema-vp-meninas.jpg
ORGANIZER;CN="VP":MAILTO:contato@faculdadevp.com.br
END:VEVENT
BEGIN:VEVENT
DTSTART;TZID=America/Sao_Paulo:20250310T100000
DTEND;TZID=America/Sao_Paulo:20250310T170000
DTSTAMP:20260424T174710
CREATED:20250106T133728Z
LAST-MODIFIED:20250228T134737Z
UID:10000033-1741600800-1741626000@loja.faculdadevp.com.br
SUMMARY:Cinema VP - Natal 10.03 (ESGOTADO)
DESCRIPTION:
URL:https://loja.faculdadevp.com.br/evento/cinema-vp-natal-20-02/
LOCATION:Cinépolis Natal Shopping\, Avenida Senador Salgado Filho\, 2234\, Natal \, Rio Grande do Norte\, 59064900
ATTACH;FMTTYPE=image/jpeg:https://loja.faculdadevp.com.br/wp-content/uploads/2023/10/cinema-vp-meninas.jpg
ORGANIZER;CN="VP":MAILTO:contato@faculdadevp.com.br
END:VEVENT
BEGIN:VEVENT
DTSTART;TZID=America/Sao_Paulo:20250219T090000
DTEND;TZID=America/Sao_Paulo:20250219T170000
DTSTAMP:20260424T174710
CREATED:20250106T133508Z
LAST-MODIFIED:20250128T201200Z
UID:10000032-1739955600-1739984400@loja.faculdadevp.com.br
SUMMARY:Cinema VP - Rio de Janeiro 19.02
DESCRIPTION:
URL:https://loja.faculdadevp.com.br/evento/cinema-vp-rio-de-janeiro-19-02/
LOCATION:UCI New York City Center\, Av. das Américas\, 5000\, Rio de Janeiro\, RJ\, 22640-102\, Brasil
ATTACH;FMTTYPE=image/jpeg:https://loja.faculdadevp.com.br/wp-content/uploads/2023/10/cinema-vp-meninas.jpg
ORGANIZER;CN="VP":MAILTO:contato@faculdadevp.com.br
END:VEVENT
BEGIN:VEVENT
DTSTART;TZID=America/Sao_Paulo:20250129T100000
DTEND;TZID=America/Sao_Paulo:20250129T170000
DTSTAMP:20260424T174710
CREATED:20250106T133105Z
LAST-MODIFIED:20250121T175348Z
UID:10000031-1738144800-1738170000@loja.faculdadevp.com.br
SUMMARY:Cinema VP - Fortaleza 29.01
DESCRIPTION:
URL:https://loja.faculdadevp.com.br/evento/cinema-vp-fortaleza-29-01/
LOCATION:Av. Washington Soares\, 85\, Av. Washington Soares\, 85\, Fortaleza\, Ceará\, 60811-341\, Brasil
ATTACH;FMTTYPE=image/jpeg:https://loja.faculdadevp.com.br/wp-content/uploads/2023/10/cinema-vp-meninas.jpg
ORGANIZER;CN="VP":MAILTO:contato@faculdadevp.com.br
END:VEVENT
BEGIN:VEVENT
DTSTART;TZID=America/Sao_Paulo:20241209T100000
DTEND;TZID=America/Sao_Paulo:20241209T170000
DTSTAMP:20260424T174710
CREATED:20241022T144919Z
LAST-MODIFIED:20241208T165630Z
UID:10000029-1733738400-1733763600@loja.faculdadevp.com.br
SUMMARY:Cinema VP - Salvador 09.12
DESCRIPTION:
URL:https://loja.faculdadevp.com.br/evento/cinema-vp-salvador-09-12/
LOCATION:Cinema do Shopping da Bahia\, Av. Tancredo Neves\, 148\, Salvador\, Bahia\, Brasil
ATTACH;FMTTYPE=image/jpeg:https://loja.faculdadevp.com.br/wp-content/uploads/2023/10/cinema-vp-meninas.jpg
ORGANIZER;CN="VP":MAILTO:contato@faculdadevp.com.br
END:VEVENT
BEGIN:VEVENT
DTSTART;TZID=America/Sao_Paulo:20241205T100000
DTEND;TZID=America/Sao_Paulo:20241205T170000
DTSTAMP:20260424T174710
CREATED:20241022T143020Z
LAST-MODIFIED:20241204T145813Z
UID:10000028-1733392800-1733418000@loja.faculdadevp.com.br
SUMMARY:Cinema VP - SP 05.12
DESCRIPTION:Confira a programação aqui: https://www.instagram.com/share/p/_d6Hg1RRb \n  \n 
URL:https://loja.faculdadevp.com.br/evento/cinema-vp-sp-05-12/
LOCATION:Shopping Anália Franco\, Avenida Regente Feijó\, 1739 - Jardim Anália Franco\, São Paulo\, SP\, 03342-900
ATTACH;FMTTYPE=image/jpeg:https://loja.faculdadevp.com.br/wp-content/uploads/2023/10/cinema-vp-meninas.jpg
ORGANIZER;CN="VP":MAILTO:contato@faculdadevp.com.br
END:VEVENT
BEGIN:VEVENT
DTSTART;TZID=America/Sao_Paulo:20241203T080000
DTEND;TZID=America/Sao_Paulo:20241203T170000
DTSTAMP:20260424T174710
CREATED:20241022T142651Z
LAST-MODIFIED:20241202T145340Z
UID:10000027-1733212800-1733245200@loja.faculdadevp.com.br
SUMMARY:Cinema VP - RJ 03.12
DESCRIPTION:
URL:https://loja.faculdadevp.com.br/evento/cinema-vp-rj-03-12/
LOCATION:UCI New York City Center\, Av. das Américas\, 5000\, Rio de Janeiro\, RJ\, 22640-102\, Brasil
ATTACH;FMTTYPE=image/jpeg:https://loja.faculdadevp.com.br/wp-content/uploads/2023/10/cinema-vp-meninas.jpg
ORGANIZER;CN="VP":MAILTO:contato@faculdadevp.com.br
END:VEVENT
BEGIN:VEVENT
DTSTART;TZID=America/Sao_Paulo:20240920T080000
DTEND;TZID=America/Sao_Paulo:20240920T130000
DTSTAMP:20260424T174710
CREATED:20240816T123026Z
LAST-MODIFIED:20240816T165152Z
UID:10000022-1726819200-1726837200@loja.faculdadevp.com.br
SUMMARY:1º Workshop: Tecnologias inéditas em sustentabilidade para o Foodservice
DESCRIPTION:O Programa Green Kitchen se associa a VP – Centro VP de Centro de Nutrição Funcional\, fundada pela Nutricionista Dra. Valéria Paschoal e que esse ano comemora 25 anos\, para realizar o Workshop: Tecnologias inéditas em sustentabilidade para o Foodservice no Centro de Convenções Frei Caneca\, no dia 20 de setembro\, das 8h às 13h\, dentro do XVIII – Congresso Internacional de Nutrição Funcional. \nEm espaço destinado a este ciclo de palestras\, estarão presentes nutricionistas\, chefs de cozinha\, gerentes de A&B\, gestores de negócios\, gestores de suprimentos e profissionais que atuam em administração de serviços de Alimentação. Se incluem as áreas hospitalar\, escolar pública e privada\, restaurantes comerciais\, refeições coletivas\, hotelaria\, panificação\, buffet\, confeitaria entre outros estabelecimentos do food servisse.
URL:https://loja.faculdadevp.com.br/evento/workshop-sustentabilidade/
LOCATION:Shopping Frei Caneca\, R. Frei Caneca\, 569 - 3º e 5º andar - Bela Vista\, São Paulo\, São Paulo\, 01307001\, Brasil
ATTACH;FMTTYPE=image/jpeg:https://loja.faculdadevp.com.br/wp-content/uploads/2024/08/Slides-Divulgacao-Pos-VP-Coordenadores-3.jpg
ORGANIZER;CN="VP":MAILTO:contato@faculdadevp.com.br
END:VEVENT
BEGIN:VEVENT
DTSTART;TZID=America/Sao_Paulo:20240919T080000
DTEND;TZID=America/Sao_Paulo:20240921T180000
DTSTAMP:20260424T174710
CREATED:20230905T002855Z
LAST-MODIFIED:20240918T222653Z
UID:10000001-1726732800-1726941600@loja.faculdadevp.com.br
SUMMARY:Congresso VP 2024
DESCRIPTION:*Vagas mediante lotação das salas por ordem de chegada\, exceto a sala de clínica (auditório principal)*
URL:https://loja.faculdadevp.com.br/evento/congresso-vp-2024/
LOCATION:Shopping Frei Caneca\, R. Frei Caneca\, 569 - 3º e 5º andar - Bela Vista\, São Paulo\, São Paulo\, 01307001\, Brasil
ATTACH;FMTTYPE=image/jpeg:https://loja.faculdadevp.com.br/wp-content/uploads/2023/09/congressovp.jpeg
ORGANIZER;CN="VP":MAILTO:contato@faculdadevp.com.br
END:VEVENT
BEGIN:VEVENT
DTSTART;TZID=America/Sao_Paulo:20240828T080000
DTEND;TZID=America/Sao_Paulo:20240828T170000
DTSTAMP:20260424T174710
CREATED:20240820T134755Z
LAST-MODIFIED:20240820T134755Z
UID:10000023-1724832000-1724864400@loja.faculdadevp.com.br
SUMMARY:Cinema VP - SP 28.08
DESCRIPTION:
URL:https://loja.faculdadevp.com.br/evento/cinema-vp-sp-28-08/
LOCATION:Shopping Anália Franco\, Avenida Regente Feijó\, 1739 - Jardim Anália Franco\, São Paulo\, SP\, 03342-900
ATTACH;FMTTYPE=image/jpeg:https://loja.faculdadevp.com.br/wp-content/uploads/2023/10/cinema-vp-meninas.jpg
ORGANIZER;CN="VP":MAILTO:contato@faculdadevp.com.br
END:VEVENT
BEGIN:VEVENT
DTSTART;TZID=America/Sao_Paulo:20240809T100000
DTEND;TZID=America/Sao_Paulo:20240809T210000
DTSTAMP:20260424T174710
CREATED:20240613T202930Z
LAST-MODIFIED:20240808T182248Z
UID:10000021-1723197600-1723237200@loja.faculdadevp.com.br
SUMMARY:II Encontro - Faminas & VP
DESCRIPTION:
URL:https://loja.faculdadevp.com.br/evento/encontro-faminas-vp/
LOCATION:Faminas BH\, Av. Cristiano Machado\, 12001 - Vila Cloris\, Belo Horizonte\, Minas Gerais\, 31744-007\, Brasil
ATTACH;FMTTYPE=image/jpeg:https://loja.faculdadevp.com.br/wp-content/uploads/2024/06/Imagem-do-WhatsApp-de-2024-06-13-as-19.35.37_8566fc1e.jpg
ORGANIZER;CN="VP":MAILTO:contato@faculdadevp.com.br
END:VEVENT
BEGIN:VEVENT
DTSTART;TZID=America/Sao_Paulo:20240605T080000
DTEND;TZID=America/Sao_Paulo:20240605T170000
DTSTAMP:20260424T174710
CREATED:20240521T151906Z
LAST-MODIFIED:20240601T153837Z
UID:10000019-1717574400-1717606800@loja.faculdadevp.com.br
SUMMARY:Cinema VP - Recife 05.06
DESCRIPTION:
URL:https://loja.faculdadevp.com.br/evento/cinema-vp-recife-05-06/
LOCATION:Shopping Recife\, R. Padre Carapuceiro\, 777\, Recife\, PE\, 51020-900\, Brasil
ATTACH;FMTTYPE=image/jpeg:https://loja.faculdadevp.com.br/wp-content/uploads/2024/03/recife.jpg
ORGANIZER;CN="VP":MAILTO:contato@faculdadevp.com.br
END:VEVENT
BEGIN:VEVENT
DTSTART;TZID=America/Sao_Paulo:20240605T080000
DTEND;TZID=America/Sao_Paulo:20240605T130000
DTSTAMP:20260424T174710
CREATED:20240514T144244Z
LAST-MODIFIED:20240522T182854Z
UID:10000017-1717574400-1717592400@loja.faculdadevp.com.br
SUMMARY:Teatro VP - Imersão em Nutrição Funcional (ESGOTADO)
DESCRIPTION:ESGOTADO
URL:https://loja.faculdadevp.com.br/evento/imersao-nf/
LOCATION:Auditório Bosque da Ciência – INPA Manaus\, Av. Bem-Te-VI\, s/n\, Manaus\, Amazonas\, 69060-001
ATTACH;FMTTYPE=image/jpeg:https://loja.faculdadevp.com.br/wp-content/uploads/2024/05/Amazon_Theatre_in_Manaus.jpg
ORGANIZER;CN="VP":MAILTO:contato@faculdadevp.com.br
END:VEVENT
END:VCALENDAR