BEGIN:VCALENDAR
VERSION:2.0
PRODID:-//Loja VP - ECPv6.15.13.1//NONSGML v1.0//EN
CALSCALE:GREGORIAN
METHOD:PUBLISH
X-WR-CALNAME:Loja VP
X-ORIGINAL-URL:https://loja.faculdadevp.com.br
X-WR-CALDESC:Eventos para Loja VP
REFRESH-INTERVAL;VALUE=DURATION:PT1H
X-Robots-Tag:noindex
X-PUBLISHED-TTL:PT1H
BEGIN:VTIMEZONE
TZID:America/Sao_Paulo
BEGIN:STANDARD
TZOFFSETFROM:-0300
TZOFFSETTO:-0300
TZNAME:-03
DTSTART:20220101T000000
END:STANDARD
END:VTIMEZONE
BEGIN:VEVENT
DTSTART;TZID=America/Sao_Paulo:20231214T080000
DTEND;TZID=America/Sao_Paulo:20231214T170000
DTSTAMP:20260424T103557
CREATED:20231020T210850Z
LAST-MODIFIED:20231023T120308Z
UID:10000004-1702540800-1702573200@loja.faculdadevp.com.br
SUMMARY:Natal Solidário - 14.12
DESCRIPTION:
URL:https://loja.faculdadevp.com.br/evento/natal-solidario-14-12/
LOCATION:Auditório João Frederico Ferrira Gomes\, Barbosa de Freitas 2674- Dionísio Torres\, Fortaleza\, Ceará\, 60125-151\, Brasil
ATTACH;FMTTYPE=image/jpeg:https://loja.faculdadevp.com.br/wp-content/uploads/2023/10/NATAL-SOLIDARIO-3.jpg
END:VEVENT
END:VCALENDAR